BEGIN:VCALENDAR
VERSION:2.0
PRODID:-//ChamberMaster//Event Calendar 2.0//EN
METHOD:PUBLISH
X-PUBLISHED-TTL:P3D
REFRESH-INTERVAL:P3D
CALSCALE:GREGORIAN
BEGIN:VEVENT
DTSTART:20091121T180000Z
DTEND:20091121T200000Z
X-MICROSOFT-CDO-ALLDAYEVENT:FALSE
SUMMARY:Kinder Art! A Kid's Eye View of Texas Ranching
DESCRIPTION:Kinder Art! is a program for kids ages 8 to 13 that invites them to create history related crafts.  This month's program talks about ranching in the Rio Grande Valley and participating kids will learn to make their own ranching symbol ornament for an end of the year exhibit.  $3 for members with membership card and $5 for members.  Class size is limited and preregistration is highly suggested!
X-ALT-DESC;FMTTYPE=text/html:Kinder Art! is a program for kids ages 8 to 13 that invites them to create history related crafts.  This month's program talks about ranching in the Rio Grande Valley and participating kids will learn to make their own ranching symbol ornament for an end of the year exhibit.  $3 for members with membership card and $5 for members.  Class size is limited and preregistration is highly suggested!
LOCATION:Take US 77/83 to the 6th street exit. Follow 6th street to Adams and turn left (one way). Take Adams St to 12th and turn right (one way). Parking is available on Adams\, Washington and on the side streets surrounding Market Square Research Center.
UID:e.1828.2175
SEQUENCE:3
DTSTAMP:20260422T144419Z
URL:https://business.harlingen.com/events/details/kinder-art-a-kid-s-eye-view-of-texas-ranching-11-21-2009-2175
END:VEVENT

END:VCALENDAR
