BEGIN:VCALENDAR
VERSION:2.0
PRODID:-//ChamberMaster//Event Calendar 2.0//EN
METHOD:PUBLISH
X-PUBLISHED-TTL:P3D
REFRESH-INTERVAL:P3D
CALSCALE:GREGORIAN
BEGIN:VEVENT
DTSTART:20110121T000000Z
DTEND:20110121T000000Z
X-MICROSOFT-CDO-ALLDAYEVENT:FALSE
SUMMARY:Knees: Not What They Used To Be?
DESCRIPTION:Learn about the causes of knee pain and your options at our free educational health seminar presented by local orthopaedic surgeon\, Dr. Jose A. Cobos
X-ALT-DESC;FMTTYPE=text/html:Learn about the causes of knee pain and your options at our free educational health seminar presented by local orthopaedic surgeon\, Dr. Jose A. Cobos
LOCATION:Harlingen Medical Center Medical office Building Conference Room
UID:e.1828.3243
SEQUENCE:3
DTSTAMP:20260421T171652Z
URL:https://business.harlingen.com/events/details/knees-not-what-they-used-to-be-01-20-2011-3243
END:VEVENT

END:VCALENDAR
