BEGIN:VCALENDAR
VERSION:2.0
PRODID:-//ChamberMaster//Event Calendar 2.0//EN
METHOD:PUBLISH
X-PUBLISHED-TTL:P3D
REFRESH-INTERVAL:P3D
CALSCALE:GREGORIAN
BEGIN:VEVENT
DTSTART:20121017T160000Z
DTEND:20121017T220000Z
X-MICROSOFT-CDO-ALLDAYEVENT:FALSE
SUMMARY:Know Your Medicine\, Know Your Pharmacist" presented by Muniz Rio Grande Pharmacy
DESCRIPTION:Join us for refreshments and giveaways!  Flu shots will be available for $25 per shot.  For more information\, call (956) 423-1753.
X-ALT-DESC;FMTTYPE=text/html:Join us for refreshments and giveaways!  Flu shots will be available for $25 per shot.  For more information\, call (956) 423-1753.  
LOCATION:
UID:e.1828.4092
SEQUENCE:3
DTSTAMP:20260420T101631Z
URL:https://business.harlingen.com/events/details/know-your-medicine-know-your-pharmacist-presented-by-muniz-rio-grande-pharmacy-10-17-2012-4092
END:VEVENT

END:VCALENDAR
