BEGIN:VCALENDAR
VERSION:2.0
PRODID:-//ChamberMaster//Event Calendar 2.0//EN
METHOD:PUBLISH
X-PUBLISHED-TTL:P3D
REFRESH-INTERVAL:P3D
CALSCALE:GREGORIAN
BEGIN:VEVENT
DTSTART:20100907T233000Z
DTEND:20100907T233000Z
X-MICROSOFT-CDO-ALLDAYEVENT:FALSE
SUMMARY:Know Your Stats About Prostate Cancer Panel Discussion
DESCRIPTION:Valley Baptist\, in partnership with The American Urological Association Foundation and the National Football League\, want you to Know Your Stats about prostate cancer. All men over 40 should talk with their doctors about their PSA (prostate-specific antigen) score and get regular physical exams.  Join us on September 7th for a panel discussion regarding prostate cancer prevention and treatment and Know Your Stats.  Panel Participants: Leo Araguz – former NFL player\, Manuel Espinoza\, MD – Urologist\, Michael Finger\, MD – Urologist\nMark Harrison\, MD – Radiation Oncologist\, Erin McCormick\, MD -- Urologist and Todd Shenkenberg\, MD – Oncologist.  FREE Admission.  Refreshments Provided.  Seating is limited.  RSVP REQUIRED. Please call (956) 542-5433.
X-ALT-DESC;FMTTYPE=text/html:Valley Baptist\, in partnership with The American Urological Association Foundation and the National Football League\, want you to Know Your Stats about prostate cancer. All men over 40 should talk with their doctors about their PSA (prostate-specific antigen) score and get regular physical exams.  Join us on September 7th for a panel discussion regarding prostate cancer prevention and treatment and Know Your Stats.  Panel Participants: Leo Araguz – former NFL player\, Manuel Espinoza\, MD – Urologist\, Michael Finger\, MD – Urologist\nMark Harrison\, MD – Radiation Oncologist\, Erin McCormick\, MD -- Urologist and Todd Shenkenberg\, MD – Oncologist.  FREE Admission.  Refreshments Provided.  Seating is limited.  RSVP REQUIRED. Please call (956) 542-5433.\n
LOCATION:South Tower Entrance
UID:e.1828.2719
SEQUENCE:3
DTSTAMP:20260421T222855Z
URL:https://business.harlingen.com/events/details/know-your-stats-about-prostate-cancer-panel-discussion-09-07-2010-2719
END:VEVENT

END:VCALENDAR
