BEGIN:VCALENDAR
VERSION:2.0
PRODID:-//ChamberMaster//Event Calendar 2.0//EN
METHOD:PUBLISH
X-PUBLISHED-TTL:P3D
REFRESH-INTERVAL:P3D
CALSCALE:GREGORIAN
BEGIN:VEVENT
DTSTART:20100321T010000Z
DTEND:20100321T010000Z
X-MICROSOFT-CDO-ALLDAYEVENT:FALSE
SUMMARY:La Boheme
DESCRIPTION:The South Texas Lyric Opera presents La Boheme by Giacommo Puccini.  Sung in Italian with English supertitles.  Artistic director Maestro Mazias de Oliveira.  General admission $45 & $65.  Seniors & students $20.  To purchase tickets\, contact the Harlingen Municipal Auditorium at 956-216-5990 or online at www.stlo.org
X-ALT-DESC;FMTTYPE=text/html:The South Texas Lyric Opera presents La Boheme by Giacommo Puccini.  Sung in Italian with English supertitles.  Artistic director Maestro Mazias de Oliveira.  General admission $45 & $65.  Seniors & students $20.  To purchase tickets\, contact the Harlingen Municipal Auditorium at 956-216-5990 or online at www.stlo.org
LOCATION:
UID:e.1828.2449
SEQUENCE:3
DTSTAMP:20260422T093512Z
URL:https://business.harlingen.com/events/details/la-boheme-03-20-2010-2449
END:VEVENT

END:VCALENDAR
