BEGIN:VCALENDAR
VERSION:2.0
PRODID:-//ChamberMaster//Event Calendar 2.0//EN
METHOD:PUBLISH
X-PUBLISHED-TTL:P3D
REFRESH-INTERVAL:P3D
CALSCALE:GREGORIAN
BEGIN:VEVENT
DTSTART;VALUE=DATE:20110702
DTEND;VALUE=DATE:20110703
TRANSP:TRANSPARENT
X-MICROSOFT-CDO-ALLDAYEVENT:TRUE
SUMMARY:La Playa Restaurant
DESCRIPTION:Come join us\, in celebration of our 5th year anniversary! Specials all day...live music 6-8\nwe will be having dinner and drink specials and live Music by Filo the guitarrista.We appreciate all of our guests and would like to sincerely thank you all for your patronage! Hope to see you all there!
X-ALT-DESC;FMTTYPE=text/html:Come join us\, in celebration of our 5th year anniversary! Specials all day...live music 6-8\nwe will be having dinner and drink specials and live Music by Filo the guitarrista.We appreciate all of our guests and would like to sincerely thank you all for your patronage! Hope to see you all there! \n
LOCATION:
UID:e.1828.3098
SEQUENCE:3
DTSTAMP:20260421T063842Z
URL:https://business.harlingen.com/events/details/la-playa-restaurant-07-02-2011-3098
END:VEVENT

END:VCALENDAR
