BEGIN:VCALENDAR
VERSION:2.0
PRODID:-//ChamberMaster//Event Calendar 2.0//EN
METHOD:PUBLISH
X-PUBLISHED-TTL:P3D
REFRESH-INTERVAL:P3D
CALSCALE:GREGORIAN
BEGIN:VEVENT
DTSTART:20110701T150000Z
DTEND:20110701T150000Z
X-MICROSOFT-CDO-ALLDAYEVENT:FALSE
SUMMARY:Lacks Furniture of San Benito
DESCRIPTION:Join in celebrating the grand opening and ribbon cutting of Lacks Furniture Showcase of San Benito.
X-ALT-DESC;FMTTYPE=text/html:Join in celebrating the grand opening and ribbon cutting of Lacks Furniture Showcase of San Benito. \n\n
LOCATION:
UID:e.1828.3093
SEQUENCE:3
DTSTAMP:20260421T064500Z
URL:https://business.harlingen.com/events/details/lacks-furniture-of-san-benito-07-01-2011-3093
END:VEVENT

END:VCALENDAR
