BEGIN:VCALENDAR
VERSION:2.0
PRODID:-//ChamberMaster//Event Calendar 2.0//EN
METHOD:PUBLISH
X-PUBLISHED-TTL:P3D
REFRESH-INTERVAL:P3D
CALSCALE:GREGORIAN
BEGIN:VEVENT
DTSTART:20110728T223000Z
DTEND:20110728T223000Z
X-MICROSOFT-CDO-ALLDAYEVENT:FALSE
SUMMARY:Ladies Night at the Ranch
DESCRIPTION:Ladies Night at the Ranch\nPlease come join us at the first annual "Ladies Night at the Ranch" for food\, drink\, fellowship\, give-aways\, and great bargains on all our cool gear. Adult beverages and finger foods to be served.
X-ALT-DESC;FMTTYPE=text/html:Ladies Night at the Ranch\nPlease come join us at the first annual "Ladies Night at the Ranch" for food\, drink\, fellowship\, give-aways\, and great bargains on all our cool gear. Adult beverages and finger foods to be served. \n
LOCATION:
UID:e.1828.3106
SEQUENCE:3
DTSTAMP:20260421T081118Z
URL:https://business.harlingen.com/events/details/ladies-night-at-the-ranch-07-28-2011-3106
END:VEVENT

END:VCALENDAR
