BEGIN:VCALENDAR
VERSION:2.0
PRODID:-//ChamberMaster//Event Calendar 2.0//EN
METHOD:PUBLISH
X-PUBLISHED-TTL:P3D
REFRESH-INTERVAL:P3D
CALSCALE:GREGORIAN
BEGIN:VEVENT
DTSTART:20100703T000000Z
DTEND:20100702T160000Z
X-MICROSOFT-CDO-ALLDAYEVENT:FALSE
SUMMARY:Ladies Night Out
DESCRIPTION:This will be a Fashion/Lingerie Show Id required must be 21 or above\, Ladies only. Ticket required
X-ALT-DESC;FMTTYPE=text/html:This will be a Fashion/Lingerie Show Id required must be 21 or above\, Ladies only. Ticket required
LOCATION:Off of Tyler st go west to 103 Jackson st.
UID:e.1828.2498
SEQUENCE:3
DTSTAMP:20260422T015312Z
URL:https://business.harlingen.com/events/details/ladies-night-out-07-02-2010-2498
END:VEVENT

END:VCALENDAR
