BEGIN:VCALENDAR
VERSION:2.0
PRODID:-//ChamberMaster//Event Calendar 2.0//EN
METHOD:PUBLISH
X-PUBLISHED-TTL:P3D
REFRESH-INTERVAL:P3D
CALSCALE:GREGORIAN
BEGIN:VEVENT
DTSTART:20101007T213000Z
DTEND:20101007T230000Z
X-MICROSOFT-CDO-ALLDAYEVENT:FALSE
SUMMARY:Ladies Only "Happy Hour"
DESCRIPTION:You are cordially invited to attend a Ladies Only "Happy Hour" and a "FUN" presentation on "Help! Less Stress Please!" presented by ... Aspire Consulting Group.   Cost: FREE!  This relaxing "Happy Hour" for ladies only is designed to empower you with understanding stress and it's effects\, plus tools to help you effectively manage it! Seating is limited. Please register by calling Kathy Payton at (956) 245-3433 or Debby Cortez at (956) 536-7729.
X-ALT-DESC;FMTTYPE=text/html:You are cordially invited to attend a Ladies Only "Happy Hour" and a "FUN" presentation on "Help! Less Stress Please!" presented by ... Aspire Consulting Group.   Cost: FREE!  This relaxing "Happy Hour" for ladies only is designed to empower you with understanding stress and it's effects\, plus tools to help you effectively manage it! Seating is limited. Please register by calling Kathy Payton at (956) 245-3433 or Debby Cortez at (956) 536-7729.  \n
LOCATION:
UID:e.1828.2780
SEQUENCE:3
DTSTAMP:20260421T222136Z
URL:https://business.harlingen.com/events/details/ladies-only-happy-hour-10-07-2010-2780
END:VEVENT

END:VCALENDAR
