BEGIN:VCALENDAR
VERSION:2.0
PRODID:-//ChamberMaster//Event Calendar 2.0//EN
METHOD:PUBLISH
X-PUBLISHED-TTL:P3D
REFRESH-INTERVAL:P3D
CALSCALE:GREGORIAN
BEGIN:VEVENT
DTSTART:20100414T190000Z
DTEND:20100414T230000Z
X-MICROSOFT-CDO-ALLDAYEVENT:FALSE
SUMMARY:Language of Business Seminar
DESCRIPTION:The University of Texas—Pan American Small Business Development Center (SBDC) will conduct a FREE seminar on the Language of Business on April 14 from 2 pm to 4 pm at the Harlingen Area Chamber of Commerce.  \n\nThe session covers the financial management tools necessary to run a business:  the Income Statement\, Balance Sheet\, and Cash Flow Statement.  ''These tools gauge how well the business is doing or where it might need fine-tuning in order to blacken the bottom line.  For the business-owner\, these are vital\, analytical tools for business management or when seeking financing with a lender''.  The SBDC seeks to promote economic growth and business development in the Rio Grande Valley. It does so by offering one-on-one counseling services\, assistance in business plan development\, and business training on a variety of topics.\n\nTo sign up for this seminar or to request special accommodations\, please call the Harlingen Area Chamber of Commerce at (956) 423-5440.
X-ALT-DESC;FMTTYPE=text/html:The University of Texas—Pan American Small Business Development Center (SBDC) will conduct a FREE seminar on the Language of Business on April 14 from 2 pm to 4 pm at the Harlingen Area Chamber of Commerce.  \n\nThe session covers the financial management tools necessary to run a business:  the Income Statement\, Balance Sheet\, and Cash Flow Statement.  ''These tools gauge how well the business is doing or where it might need fine-tuning in order to blacken the bottom line.  For the business-owner\, these are vital\, analytical tools for business management or when seeking financing with a lender''.  The SBDC seeks to promote economic growth and business development in the Rio Grande Valley. It does so by offering one-on-one counseling services\, assistance in business plan development\, and business training on a variety of topics.\n\nTo sign up for this seminar or to request special accommodations\, please call the Harlingen Area Chamber of Commerce at (956) 423-5440.  \n
LOCATION:Corner of East Tyler & 3rd Street
UID:e.1828.2457
SEQUENCE:3
DTSTAMP:20260422T062510Z
URL:https://business.harlingen.com/events/details/language-of-business-seminar-04-14-2010-2457
END:VEVENT

END:VCALENDAR
