BEGIN:VCALENDAR
VERSION:2.0
PRODID:-//ChamberMaster//Event Calendar 2.0//EN
METHOD:PUBLISH
X-PUBLISHED-TTL:P3D
REFRESH-INTERVAL:P3D
CALSCALE:GREGORIAN
BEGIN:VEVENT
DTSTART:20120119T233000Z
DTEND:20120119T233000Z
X-MICROSOFT-CDO-ALLDAYEVENT:FALSE
SUMMARY:Lather & Retreat
DESCRIPTION:Come celebrate Lather & Retreat's 1 year anniversary with a ribbon cutting ceremony and a Business After Hours Mixer. Get a chance to meet the staff\, tour the salon\, network & make great contacts\, enjoy refreshments\, and just have fun!
X-ALT-DESC;FMTTYPE=text/html:Come celebrate Lather & Retreat's 1 year anniversary with a ribbon cutting ceremony and a Business After Hours Mixer. Get a chance to meet the staff\, tour the salon\, network & make great contacts\, enjoy refreshments\, and just have fun!    \n
LOCATION:
UID:e.1828.3363
SEQUENCE:3
DTSTAMP:20260420T212006Z
URL:https://business.harlingen.com/events/details/lather-retreat-01-19-2012-3363
END:VEVENT

END:VCALENDAR
