BEGIN:VCALENDAR
VERSION:2.0
PRODID:-//ChamberMaster//Event Calendar 2.0//EN
METHOD:PUBLISH
X-PUBLISHED-TTL:P3D
REFRESH-INTERVAL:P3D
CALSCALE:GREGORIAN
BEGIN:VEVENT
DTSTART:20100514T150000Z
DTEND:20100514T150000Z
X-MICROSOFT-CDO-ALLDAYEVENT:FALSE
SUMMARY:Law Enforcement Memorial Ceremony
DESCRIPTION:The public is cordially invited to attend the National Law Enforcement Memorial Ceremony at the Harlingen Police Station on Friday\, May 14th at 10:00 am.  The event is sponsored by the City of Harlingen Police Department & the U.S. Border Patrol.
X-ALT-DESC;FMTTYPE=text/html:The public is cordially invited to attend the National Law Enforcement Memorial Ceremony at the Harlingen Police Station on Friday\, May 14th at 10:00 am.  The event is sponsored by the City of Harlingen Police Department & the U.S. Border Patrol.
LOCATION:
UID:e.1828.2517
SEQUENCE:3
DTSTAMP:20260422T050003Z
URL:https://business.harlingen.com/events/details/law-enforcement-memorial-ceremony-05-14-2010-2517
END:VEVENT

END:VCALENDAR
