BEGIN:VCALENDAR
VERSION:2.0
PRODID:-//ChamberMaster//Event Calendar 2.0//EN
METHOD:PUBLISH
X-PUBLISHED-TTL:P3D
REFRESH-INTERVAL:P3D
CALSCALE:GREGORIAN
BEGIN:VEVENT
DTSTART:20110714T223000Z
DTEND:20110714T223000Z
X-MICROSOFT-CDO-ALLDAYEVENT:FALSE
SUMMARY:Le Scoop Ice Cream & Treats
DESCRIPTION:Join us in celebrating the grand opening and ribbon cutting ceremony of Le Scoop. A family owned ice cream parlour that serves up the finest ice creams\, coffees\, and treats. Enjoy ice cream samples and drinks.
X-ALT-DESC;FMTTYPE=text/html:Join us in celebrating the grand opening and ribbon cutting ceremony of Le Scoop. A family owned ice cream parlour that serves up the finest ice creams\, coffees\, and treats. Enjoy ice cream samples and drinks.\n
LOCATION:
UID:e.1828.3095
SEQUENCE:3
DTSTAMP:20260421T081200Z
URL:https://business.harlingen.com/events/details/le-scoop-ice-cream-treats-07-14-2011-3095
END:VEVENT

END:VCALENDAR
