BEGIN:VCALENDAR
VERSION:2.0
PRODID:-//ChamberMaster//Event Calendar 2.0//EN
METHOD:PUBLISH
X-PUBLISHED-TTL:P3D
REFRESH-INTERVAL:P3D
CALSCALE:GREGORIAN
BEGIN:VEVENT
DTSTART;VALUE=DATE:20110927
DTEND;VALUE=DATE:20110929
TRANSP:TRANSPARENT
X-MICROSOFT-CDO-ALLDAYEVENT:TRUE
SUMMARY:LE TOURNEAU UNIVERSITY SLATES INFO SESSIONS AT TSTC
DESCRIPTION:LE TOURNEAU UNIVERSITY SLATES INFO SESSIONS AT TSTC\n  \nLe Tourneau University\, one of the eight members of the South Texas Education Partnership\, is scheduling two information and recruitment events at the University Center on the campus of Texas State Technical College Harlingen.\n \nThe first session will be from 5:30 p.m. to 7 p.m. September 27\, and the second session will be from 12 p.m. to 1:30 p.m. September 28. LETU advisors will discuss credits for transfer\, admissions\, registration and financial aid. Le Tourneau plans to offer undergraduate degree programs in Business Management\, Interdisciplinary Studies for Early Childhood through 6th Grade\, Human Services\, Aviation Studies\, Non-Profit Management and Psychology. It also will offer graduate programs in Counseling (LPC or LMFT) and Health Care Management. The University Center\, also the home of the Harlingen Economic Development Corporation\, is located along Loop 499 near the Harlingen Arts & Heritage Museum and the Early College High School\n \nContact UC Executive Director Lisa Cavazos at 956.364.4535 or lisa.cavazos@harlingen.tstc.edu for details. University Center information also is available online at www.harlingen.tstc.edu.\n \nDave Ralph\, Communications Writer \nMarketing Department\nTexas State Technical College \n1902 North Loop 499 | Harlingen\, TX | 78550-3653\n956.364.4113 office | 956.357.4641 cell  |  956.364.5105 fax
X-ALT-DESC;FMTTYPE=text/html:LE TOURNEAU UNIVERSITY SLATES INFO SESSIONS AT TSTC\n  \nLe Tourneau University\, one of the eight members of the South Texas Education Partnership\, is scheduling two information and recruitment events at the University Center on the campus of Texas State Technical College Harlingen.\n \nThe first session will be from 5:30 p.m. to 7 p.m. September 27\, and the second session will be from 12 p.m. to 1:30 p.m. September 28. LETU advisors will discuss credits for transfer\, admissions\, registration and financial aid. Le Tourneau plans to offer undergraduate degree programs in Business Management\, Interdisciplinary Studies for Early Childhood through 6th Grade\, Human Services\, Aviation Studies\, Non-Profit Management and Psychology. It also will offer graduate programs in Counseling (LPC or LMFT) and Health Care Management. The University Center\, also the home of the Harlingen Economic Development Corporation\, is located along Loop 499 near the Harlingen Arts & Heritage Museum and the Early College High School\n \nContact UC Executive Director Lisa Cavazos at 956.364.4535 or lisa.cavazos@harlingen.tstc.edu for details. University Center information also is available online at www.harlingen.tstc.edu.\n \nDave Ralph\, Communications Writer \nMarketing Department\nTexas State Technical College \n1902 North Loop 499 | Harlingen\, TX | 78550-3653\n956.364.4113 office | 956.357.4641 cell  |  956.364.5105 fax \n \n
LOCATION:
UID:e.1828.3168
SEQUENCE:3
DTSTAMP:20260421T034917Z
URL:https://business.harlingen.com/events/details/le-tourneau-university-slates-info-sessions-at-tstc-09-27-2011-3168
END:VEVENT

END:VCALENDAR
