BEGIN:VCALENDAR
VERSION:2.0
PRODID:-//ChamberMaster//Event Calendar 2.0//EN
METHOD:PUBLISH
X-PUBLISHED-TTL:P3D
REFRESH-INTERVAL:P3D
CALSCALE:GREGORIAN
BEGIN:VEVENT
DTSTART:20120118T000000Z
DTEND:20120118T000000Z
X-MICROSOFT-CDO-ALLDAYEVENT:FALSE
SUMMARY:Learn about the History of Quilting
DESCRIPTION:Window to the Past Speaker Series\nSponsored by the San Benito Historical Society\nAdmission is Free of Charge\nPictured right is one of forty antique quilts ranging in age of 40 to 80 years old and scheduled to be presented in the ''Quilting through the Ages'' exhibit on January 17th at 6 pm in the San Benito Community Building.  The quilt is owned by San Benito resident\, Della Miller and is one of many quilts made the early 1950's by her mother (and Laura Wilson's) grandmother\, Hallie Macomb who previously resided in Los Fresnos. The quilt\, a scrappy log cabin\, is made of various pieces of cotton\, silk\, and satin scraps and was machine pieced and hand quilted.  Both Della and Laura are active quilters here in our community.  Laura Wilson and quilting friends will present the antique quilt exhibit for the ''Windows to the Past'' project\, sponsored by the San Benito Historical Society.  Admission is free.
X-ALT-DESC;FMTTYPE=text/html:Window to the Past Speaker Series\nSponsored by the San Benito Historical Society\nAdmission is Free of Charge\nPictured right is one of forty antique quilts ranging in age of 40 to 80 years old and scheduled to be presented in the ''Quilting through the Ages'' exhibit on January 17th at 6 pm in the San Benito Community Building.  The quilt is owned by San Benito resident\, Della Miller and is one of many quilts made the early 1950's by her mother (and Laura Wilson's) grandmother\, Hallie Macomb who previously resided in Los Fresnos. The quilt\, a scrappy log cabin\, is made of various pieces of cotton\, silk\, and satin scraps and was machine pieced and hand quilted.  Both Della and Laura are active quilters here in our community.  Laura Wilson and quilting friends will present the antique quilt exhibit for the ''Windows to the Past'' project\, sponsored by the San Benito Historical Society.  Admission is free.\n \n\n
LOCATION:
UID:e.1828.3368
SEQUENCE:3
DTSTAMP:20260420T213104Z
URL:https://business.harlingen.com/events/details/learn-about-the-history-of-quilting-01-17-2012-3368
END:VEVENT

END:VCALENDAR
