BEGIN:VCALENDAR
VERSION:2.0
PRODID:-//ChamberMaster//Event Calendar 2.0//EN
METHOD:PUBLISH
X-PUBLISHED-TTL:P3D
REFRESH-INTERVAL:P3D
CALSCALE:GREGORIAN
BEGIN:VEVENT
DTSTART:20091115T200000Z
DTEND:20091115T180000Z
X-MICROSOFT-CDO-ALLDAYEVENT:FALSE
SUMMARY:Lecture at the Square Series: Planning Your Future
DESCRIPTION:Guests are invited to learn how to plan for their funeral with guest speaker Crispin Garza of Sunset Funeral home.  Planning for your future can never be too soon.  Guests will be served refreshments.
X-ALT-DESC;FMTTYPE=text/html:Guests are invited to learn how to plan for their funeral with guest speaker Crispin Garza of Sunset Funeral home.  Planning for your future can never be too soon.  Guests will be served refreshments.
LOCATION:Take US 77/83 to the 6th street exit. Follow 6th street to Adams and turn left (one way). Take Adams St to 12th and turn right (one way). Parking is available on Adams\, Washington and on the side streets surrounding Market Square Research Center.
UID:e.1828.2176
SEQUENCE:3
DTSTAMP:20260422T143602Z
URL:https://business.harlingen.com/events/details/lecture-at-the-square-series-planning-your-future-11-15-2009-2176
END:VEVENT

END:VCALENDAR
