BEGIN:VCALENDAR
VERSION:2.0
PRODID:-//ChamberMaster//Event Calendar 2.0//EN
METHOD:PUBLISH
X-PUBLISHED-TTL:P3D
REFRESH-INTERVAL:P3D
CALSCALE:GREGORIAN
BEGIN:VEVENT
DTSTART:20110918T233000Z
DTEND:20110918T233000Z
X-MICROSOFT-CDO-ALLDAYEVENT:FALSE
SUMMARY:Les Petits Chanteurs and Chamber Ensemble
DESCRIPTION:Les Petits Chanteurs and CHamber Ensemble of Holy Trinity Music School and Philharmonic Orchestra is a 30 voice boy's choir accompanied by a Chamber Ensemble from the Holy Trinity Philharmonic Orchestra.  Holy Trinity Music School was destroyed during the earthquake of 2010.  It is the only music school of its kind in Haiti\, and its orchestras\, and choral groups are gems in the country's crown.  The school offers music education to children of all economic classes through two locations in the Port-au-Prince area.  Les Petit Chanteurs first toured the United States in 1984.  On this eleventh tour\, the choir will sing 35 concerts from Washington DC to California.  It aims to raise awareness of the rich musical traditions in Haiti and the importance of the school in the life of the country as well as raise funds to rebuild their school.
X-ALT-DESC;FMTTYPE=text/html:Les Petits Chanteurs and CHamber Ensemble of Holy Trinity Music School and Philharmonic Orchestra is a 30 voice boy's choir accompanied by a Chamber Ensemble from the Holy Trinity Philharmonic Orchestra.  Holy Trinity Music School was destroyed during the earthquake of 2010.  It is the only music school of its kind in Haiti\, and its orchestras\, and choral groups are gems in the country's crown.  The school offers music education to children of all economic classes through two locations in the Port-au-Prince area.  Les Petit Chanteurs first toured the United States in 1984.  On this eleventh tour\, the choir will sing 35 concerts from Washington DC to California.  It aims to raise awareness of the rich musical traditions in Haiti and the importance of the school in the life of the country as well as raise funds to rebuild their school.
LOCATION:Event will be held at St. Alban's Episcopal Church\, Harlingen a reception will follow
UID:e.1828.3210
SEQUENCE:3
DTSTAMP:20260421T051132Z
URL:https://business.harlingen.com/events/details/les-petits-chanteurs-and-chamber-ensemble-09-18-2011-3210
END:VEVENT

END:VCALENDAR
