BEGIN:VCALENDAR
VERSION:2.0
PRODID:-//ChamberMaster//Event Calendar 2.0//EN
METHOD:PUBLISH
X-PUBLISHED-TTL:P3D
REFRESH-INTERVAL:P3D
CALSCALE:GREGORIAN
BEGIN:VEVENT
DTSTART:20110918T233000Z
DTEND:20110918T233000Z
X-MICROSOFT-CDO-ALLDAYEVENT:FALSE
SUMMARY:"Les Petits Chanteurs" Choir Perfromance
DESCRIPTION:'Les Petits Chanteurs" \, the renowned young people's choir of the earthquake destroyed Holy Trinity Music School of Port au Prince\, Haiti\, will perform a free concert at St. Alban's Episcopal Church on Sunday\, September 18 at 6:30 pm for the community. There will be no admission fee\, but a free-will offering will be taken to help offset travel expenses and re-build the music school.
X-ALT-DESC;FMTTYPE=text/html:'Les Petits Chanteurs" \, the renowned young people's choir of the earthquake destroyed Holy Trinity Music School of Port au Prince\, Haiti\, will perform a free concert at St. Alban's Episcopal Church on Sunday\, September 18 at 6:30 pm for the community. There will be no admission fee\, but a free-will offering will be taken to help offset travel expenses and re-build the music school.  
LOCATION:St. Alban's Episcopal Church 1417 E. Austin Harlingen\, Tx
UID:e.1828.3163
SEQUENCE:3
DTSTAMP:20260421T034036Z
URL:https://business.harlingen.com/events/details/les-petits-chanteurs-choir-perfromance-09-18-2011-3163
END:VEVENT

END:VCALENDAR
