BEGIN:VCALENDAR
VERSION:2.0
PRODID:-//ChamberMaster//Event Calendar 2.0//EN
METHOD:PUBLISH
X-PUBLISHED-TTL:P3D
REFRESH-INTERVAL:P3D
CALSCALE:GREGORIAN
BEGIN:VEVENT
DTSTART:20120624T000000Z
DTEND:20120624T000000Z
X-MICROSOFT-CDO-ALLDAYEVENT:FALSE
SUMMARY:Leslie Blasing in Reminiscing with Our Valley Heroes "The Music of Yesteryear and Present"
DESCRIPTION:Come and support of RGV Troops and listen to Leslie Blasing with Yesteryear and Present music. Also Special appearance Missy's Modeling Studio. Proceeds help provide GLP's (Quality of Life Packages) to our RGV Troops serving overseas and will assist with projects benefiting our local Veterans. Tickets donation $10.00. For mor information on obtaining tickets please call 956-425-1549. Tickets can also be obtained via Paypal at www.americanmilitarysupport.com  Doors open at 6PM-show starts at & 7PM.
X-ALT-DESC;FMTTYPE=text/html:Come and support of RGV Troops and listen to Leslie Blasing with Yesteryear and Present music. Also Special appearance Missy's Modeling Studio. Proceeds help provide GLP's (Quality of Life Packages) to our RGV Troops serving overseas and will assist with projects benefiting our local Veterans. Tickets donation $10.00. For mor information on obtaining tickets please call 956-425-1549. Tickets can also be obtained via Paypal at www.americanmilitarysupport.com  Doors open at 6PM-show starts at & 7PM.
LOCATION:
UID:e.1828.3749
SEQUENCE:3
DTSTAMP:20260420T133026Z
URL:https://business.harlingen.com/events/details/leslie-blasing-in-reminiscing-with-our-valley-heroes-the-music-of-yesteryear-and-present-06-23-2012-3749
END:VEVENT

END:VCALENDAR
