BEGIN:VCALENDAR
VERSION:2.0
PRODID:-//ChamberMaster//Event Calendar 2.0//EN
METHOD:PUBLISH
X-PUBLISHED-TTL:P3D
REFRESH-INTERVAL:P3D
CALSCALE:GREGORIAN
BEGIN:VEVENT
DTSTART:20101210T000000Z
DTEND:20101210T000000Z
X-MICROSOFT-CDO-ALLDAYEVENT:FALSE
SUMMARY:Light the House
DESCRIPTION:Ronald McDonald House Charities\nPlease join us to Light the House.  Entertainment provided and free to the public. \n\n(Then mark your calendar for Merchandise Drop Off Day \n8 a.m.-5 p.m.Saturday\, December 11. Last chance of the year to receive a receipt for tax deductions. Donated items must be brought inside. Both taking place at the Ronald McDonald House\, RGV)
X-ALT-DESC;FMTTYPE=text/html:Ronald McDonald House Charities\nPlease join us to Light the House.  Entertainment provided and free to the public. \n\n(Then mark your calendar for Merchandise Drop Off Day \n8 a.m.-5 p.m.Saturday\, December 11. Last chance of the year to receive a receipt for tax deductions. Donated items must be brought inside. Both taking place at the Ronald McDonald House\, RGV)\n
LOCATION:
UID:e.1828.2866
SEQUENCE:3
DTSTAMP:20260421T171305Z
URL:https://business.harlingen.com/events/details/light-the-house-12-09-2010-2866
END:VEVENT

END:VCALENDAR
