BEGIN:VCALENDAR
VERSION:2.0
PRODID:-//ChamberMaster//Event Calendar 2.0//EN
METHOD:PUBLISH
X-PUBLISHED-TTL:P3D
REFRESH-INTERVAL:P3D
CALSCALE:GREGORIAN
BEGIN:VEVENT
DTSTART:20101011T163000Z
DTEND:20101011T163000Z
X-MICROSOFT-CDO-ALLDAYEVENT:FALSE
SUMMARY:Lilly of the Valley Tea House Ribbon Cutting
DESCRIPTION:You are invited to a ribbon cutting for Lily of the Valley Tea House Christian Bookstore\, Boutique & Spa on Monday\, Oct 11\, 2010 starting at 11:30 am.  The Harlingen and San Benito Chambers will partner in welcoming a new business to our area.  Food & Refreshments will be served.  For more information\, please call 956-361-5459.
X-ALT-DESC;FMTTYPE=text/html:You are invited to a ribbon cutting for Lily of the Valley Tea House Christian Bookstore\, Boutique & Spa on Monday\, Oct 11\, 2010 starting at 11:30 am.  The Harlingen and San Benito Chambers will partner in welcoming a new business to our area.  Food & Refreshments will be served.  For more information\, please call 956-361-5459.\n
LOCATION:
UID:e.1828.2777
SEQUENCE:3
DTSTAMP:20260421T223531Z
URL:https://business.harlingen.com/events/details/lilly-of-the-valley-tea-house-ribbon-cutting-10-11-2010-2777
END:VEVENT

END:VCALENDAR
