BEGIN:VCALENDAR
VERSION:2.0
PRODID:-//ChamberMaster//Event Calendar 2.0//EN
METHOD:PUBLISH
X-PUBLISHED-TTL:P3D
REFRESH-INTERVAL:P3D
CALSCALE:GREGORIAN
BEGIN:VEVENT
DTSTART:20100122T000000Z
DTEND:20100122T000000Z
X-MICROSOFT-CDO-ALLDAYEVENT:FALSE
SUMMARY:Literacy Center of Harlingen 21st Annual Celebrity Roast
DESCRIPTION:You are invited to the Literacy Center of Harlingen 21st Annual Celebrity Roast.  The 2010 honoree is  Ruthie Ewers.  Tickets are $65 per seat & $600 for a table of 10.  Cocktails at 6 pm\, dinner at 7 pm & the Great Roast at 8 pm.  All proceeds benefit the Literacy Center of Harlingen.  For ticket information\, please call the Literacy Center at 956-428-8883.
X-ALT-DESC;FMTTYPE=text/html:You are invited to the Literacy Center of Harlingen 21st Annual Celebrity Roast.  The 2010 honoree is  Ruthie Ewers.  Tickets are $65 per seat & $600 for a table of 10.  Cocktails at 6 pm\, dinner at 7 pm & the Great Roast at 8 pm.  All proceeds benefit the Literacy Center of Harlingen.  For ticket information\, please call the Literacy Center at 956-428-8883.
LOCATION:
UID:e.1828.2261
SEQUENCE:3
DTSTAMP:20260422T112516Z
URL:https://business.harlingen.com/events/details/literacy-center-of-harlingen-21st-annual-celebrity-roast-01-21-2010-2261
END:VEVENT

END:VCALENDAR
