BEGIN:VCALENDAR
VERSION:2.0
PRODID:-//ChamberMaster//Event Calendar 2.0//EN
METHOD:PUBLISH
X-PUBLISHED-TTL:P3D
REFRESH-INTERVAL:P3D
CALSCALE:GREGORIAN
BEGIN:VEVENT
DTSTART:20121020T140000Z
DTEND:20121020T150000Z
X-MICROSOFT-CDO-ALLDAYEVENT:FALSE
SUMMARY:Little Chef's Academy hosted by Chick-fil-A
DESCRIPTION:Learn how to make a Milkshake and Harvest Trail Mix!  FREE!  No age limit.  Please sign up at the restaurant or call (956) 365-3833 to save your spot!
X-ALT-DESC;FMTTYPE=text/html:Learn how to make a Milkshake and Harvest Trail Mix!  FREE!  No age limit.  Please sign up at the restaurant or call (956) 365-3833 to save your spot!\n
LOCATION:
UID:e.1828.4112
SEQUENCE:3
DTSTAMP:20260420T084303Z
URL:https://business.harlingen.com/events/details/little-chef-s-academy-hosted-by-chick-fil-a-10-20-2012-4112
END:VEVENT

END:VCALENDAR
