BEGIN:VCALENDAR
VERSION:2.0
PRODID:-//ChamberMaster//Event Calendar 2.0//EN
METHOD:PUBLISH
X-PUBLISHED-TTL:P3D
REFRESH-INTERVAL:P3D
CALSCALE:GREGORIAN
BEGIN:VEVENT
DTSTART:20110813T160000Z
DTEND:20110814T010000Z
X-MICROSOFT-CDO-ALLDAYEVENT:FALSE
SUMMARY:Little Graceland in Los Fresnos Presents Elvis Festival 2011
DESCRIPTION:Elvis Festival 2011 featuring your favorite impersonators\n\nAsa Landry\nJoe Marquez\nJorge Corona\nOmar Aguilera\nRene Davis\nChad Roy\n\nFOOD\, FUN AND FANFARE
X-ALT-DESC;FMTTYPE=text/html:Elvis Festival 2011 featuring your favorite impersonators\n\nAsa Landry\nJoe Marquez\nJorge Corona\nOmar Aguilera\nRene Davis\nChad Roy\n\nFOOD\, FUN AND FANFARE
LOCATION:
UID:e.1828.3127
SEQUENCE:3
DTSTAMP:20260421T053412Z
URL:https://business.harlingen.com/events/details/little-graceland-in-los-fresnos-presents-elvis-festival-2011-08-13-2011-3127
END:VEVENT

END:VCALENDAR
