BEGIN:VCALENDAR
VERSION:2.0
PRODID:-//ChamberMaster//Event Calendar 2.0//EN
METHOD:PUBLISH
X-PUBLISHED-TTL:P3D
REFRESH-INTERVAL:P3D
CALSCALE:GREGORIAN
BEGIN:VEVENT
DTSTART:20110108T163000Z
DTEND:20110108T203000Z
X-MICROSOFT-CDO-ALLDAYEVENT:FALSE
SUMMARY:Little Graceland Presents Elvis Birthday Celebration
DESCRIPTION:"It Happened at the World's Fair".  Food\, Fun and Fanfare!
X-ALT-DESC;FMTTYPE=text/html:"It Happened at the World's Fair".  Food\, Fun and Fanfare!
LOCATION:
UID:e.1828.2869
SEQUENCE:3
DTSTAMP:20260421T154829Z
URL:https://business.harlingen.com/events/details/little-graceland-presents-elvis-birthday-celebration-01-08-2011-2869
END:VEVENT

END:VCALENDAR
