BEGIN:VCALENDAR
VERSION:2.0
PRODID:-//ChamberMaster//Event Calendar 2.0//EN
METHOD:PUBLISH
X-PUBLISHED-TTL:P3D
REFRESH-INTERVAL:P3D
CALSCALE:GREGORIAN
BEGIN:VEVENT
DTSTART:20101009T230000Z
DTEND:20101009T230000Z
X-MICROSOFT-CDO-ALLDAYEVENT:FALSE
SUMMARY:Loaves and Fishes 5th Annual Recognition Dinner
DESCRIPTION:The dinner will be held at the TSTC Cultural Arts Center on Loop 499 starting at 6:00 pm. This year's event promises to be extra special as we honor individuals and organizations that have planted seeds of hope for many hungry\, homeless and needy citizens within our community.  Ticket prices are $125 per person and $1\,000 for a table of 8.  Other sponsorship opportunities are available.  For more information please contact Janet Hubbard at (956) 423-1014.
X-ALT-DESC;FMTTYPE=text/html:The dinner will be held at the TSTC Cultural Arts Center on Loop 499 starting at 6:00 pm. This year's event promises to be extra special as we honor individuals and organizations that have planted seeds of hope for many hungry\, homeless and needy citizens within our community.  Ticket prices are $125 per person and $1\,000 for a table of 8.  Other sponsorship opportunities are available.  For more information please contact Janet Hubbard at (956) 423-1014. \n
LOCATION:
UID:e.1828.2669
SEQUENCE:3
DTSTAMP:20260421T223220Z
URL:https://business.harlingen.com/events/details/loaves-and-fishes-5th-annual-recognition-dinner-10-09-2010-2669
END:VEVENT

END:VCALENDAR
