BEGIN:VCALENDAR
VERSION:2.0
PRODID:-//ChamberMaster//Event Calendar 2.0//EN
METHOD:PUBLISH
X-PUBLISHED-TTL:P3D
REFRESH-INTERVAL:P3D
CALSCALE:GREGORIAN
BEGIN:VEVENT
DTSTART:20110917T230000Z
DTEND:20110917T230000Z
X-MICROSOFT-CDO-ALLDAYEVENT:FALSE
SUMMARY:Loaves and Fishes Sixth Annual Recognition Dinner
DESCRIPTION:Celebrating their Twentieth Anniversary\nLoaves & Fishes will be thanking and honoring their many community partners. Tickets are $125.\nTable sponsorships available.  Phone # 956-423-1014
X-ALT-DESC;FMTTYPE=text/html:Celebrating their Twentieth Anniversary\nLoaves & Fishes will be thanking and honoring their many community partners. Tickets are $125.\nTable sponsorships available.  Phone # 956-423-1014\n
LOCATION:
UID:e.1828.3084
SEQUENCE:3
DTSTAMP:20260421T035940Z
URL:https://business.harlingen.com/events/details/loaves-and-fishes-sixth-annual-recognition-dinner-09-17-2011-3084
END:VEVENT

END:VCALENDAR
