BEGIN:VCALENDAR
VERSION:2.0
PRODID:-//ChamberMaster//Event Calendar 2.0//EN
METHOD:PUBLISH
X-PUBLISHED-TTL:P3D
REFRESH-INTERVAL:P3D
CALSCALE:GREGORIAN
BEGIN:VEVENT
DTSTART:20120327T163000Z
DTEND:20120327T163000Z
X-MICROSOFT-CDO-ALLDAYEVENT:FALSE
SUMMARY:Loaves & Fishes 6th Annual Luncheon & Fashion Show
DESCRIPTION:A Magical\, Mystical Escapade Fashion Event! \n\n11:30 a.m. Cocktail Punch\n12:00 pm Luncheon\n$45/person - catered by TSTC Culinary Arts School Students\nRecommended Attire: Tropical Chic - Seating is limited.\nFor more information or to purchase your tickets\, call Loaves & Fishes ASAP at (956) 423-1014.
X-ALT-DESC;FMTTYPE=text/html:A Magical\, Mystical Escapade Fashion Event! \n\n11:30 a.m. Cocktail Punch\n12:00 pm Luncheon\n$45/person - catered by TSTC Culinary Arts School Students\nRecommended Attire: Tropical Chic - Seating is limited.\nFor more information or to purchase your tickets\, call Loaves & Fishes ASAP at (956) 423-1014. \n   \n
LOCATION:
UID:e.1828.3575
SEQUENCE:3
DTSTAMP:20260420T182441Z
URL:https://business.harlingen.com/events/details/loaves-fishes-6th-annual-luncheon-fashion-show-03-27-2012-3575
END:VEVENT

END:VCALENDAR
