BEGIN:VCALENDAR
VERSION:2.0
PRODID:-//ChamberMaster//Event Calendar 2.0//EN
METHOD:PUBLISH
X-PUBLISHED-TTL:P3D
REFRESH-INTERVAL:P3D
CALSCALE:GREGORIAN
BEGIN:VEVENT
DTSTART:20100407T163000Z
DTEND:20100407T163000Z
X-MICROSOFT-CDO-ALLDAYEVENT:FALSE
SUMMARY:Loaves & Fishes Black & White Fashion Affair
DESCRIPTION:Loaves & Fishes 4th annual fashion show celebrating Harlingen's Centennial.  Fashions from local boutiques and department stores.  Cocktail punch at 11:30 am.  Luncheon catered by the Culinary Arts School of TSTC at 12:00 noon.  Tickets $40 per person ($25 is a tax deductible donation).  Table for 10 $400.  Recommended attire  black & white.  For more information\, please call 956-423-1014.
X-ALT-DESC;FMTTYPE=text/html:Loaves & Fishes 4th annual fashion show celebrating Harlingen's Centennial.  Fashions from local boutiques and department stores.  Cocktail punch at 11:30 am.  Luncheon catered by the Culinary Arts School of TSTC at 12:00 noon.  Tickets $40 per person ($25 is a tax deductible donation).  Table for 10 $400.  Recommended attire  black & white.  For more information\, please call 956-423-1014.
LOCATION:Across the street from the Harlingen Arts & Heritage Museum on North Loop 499
UID:e.1828.2382
SEQUENCE:3
DTSTAMP:20260422T081405Z
URL:https://business.harlingen.com/events/details/loaves-fishes-black-white-fashion-affair-04-07-2010-2382
END:VEVENT

END:VCALENDAR
