BEGIN:VCALENDAR
VERSION:2.0
PRODID:-//ChamberMaster//Event Calendar 2.0//EN
METHOD:PUBLISH
X-PUBLISHED-TTL:P3D
REFRESH-INTERVAL:P3D
CALSCALE:GREGORIAN
BEGIN:VEVENT
DTSTART:20091211T160000Z
DTEND:20091211T200000Z
X-MICROSOFT-CDO-ALLDAYEVENT:FALSE
SUMMARY:Loaves & Fishes of the RGV Christmas Cookie Sale
DESCRIPTION:Please join us for our annual kitchen equipment fundraising Christmas Cookie Sale!  $5 per pound!  Sponsored by the women of Church of Christ\, First Baptist Church\, First United Methodist\, First Christian Church\, First Presbyterian Church\, Treasure Hills Presbyterian Church\, Grace Evangelical Lutheran Church & First United Methodist Church of La Feria.
X-ALT-DESC;FMTTYPE=text/html:Please join us for our annual kitchen equipment fundraising Christmas Cookie Sale!  $5 per pound!  Sponsored by the women of Church of Christ\, First Baptist Church\, First United Methodist\, First Christian Church\, First Presbyterian Church\, Treasure Hills Presbyterian Church\, Grace Evangelical Lutheran Church & First United Methodist Church of La Feria.
LOCATION:
UID:e.1828.2255
SEQUENCE:3
DTSTAMP:20260422T131020Z
URL:https://business.harlingen.com/events/details/loaves-fishes-of-the-rgv-christmas-cookie-sale-12-11-2009-2255
END:VEVENT

END:VCALENDAR
