BEGIN:VCALENDAR
VERSION:2.0
PRODID:-//ChamberMaster//Event Calendar 2.0//EN
METHOD:PUBLISH
X-PUBLISHED-TTL:P3D
REFRESH-INTERVAL:P3D
CALSCALE:GREGORIAN
BEGIN:VEVENT
DTSTART:20110323T163000Z
DTEND:20110323T163000Z
X-MICROSOFT-CDO-ALLDAYEVENT:FALSE
SUMMARY:Loaves & Fishes Rio Grande Valley 5th Annual Luncheon and Fashion Show
DESCRIPTION:Celebrating our 20th Anniversary!  Black & White\, fashion event with a French Flair.   \n\n11:30 AM Cocktail Punch\n12:00 PM Luncheon\n\n$45.00 per ticket\n($30.00 is a tax deductible donation)\nTable for 10.....$450.00\n\nCatered by the Culinary Arts School of TSTC\n\nFashions from Local Boutiques and Department Stores\nRecommended Attire : Black and/ or White\nSeating Limited
X-ALT-DESC;FMTTYPE=text/html:Celebrating our 20th Anniversary!  Black & White\, fashion event with a French Flair.   \n\n11:30 AM Cocktail Punch\n12:00 PM Luncheon\n\n$45.00 per ticket\n($30.00 is a tax deductible donation)\nTable for 10.....$450.00\n\nCatered by the Culinary Arts School of TSTC\n\nFashions from Local Boutiques and Department Stores\nRecommended Attire : Black and/ or White\nSeating Limited\n
LOCATION:West of Harlingen's Museum on Loop 499
UID:e.1828.2887
SEQUENCE:3
DTSTAMP:20260421T125236Z
URL:https://business.harlingen.com/events/details/loaves-fishes-rio-grande-valley-5th-annual-luncheon-and-fashion-show-03-23-2011-2887
END:VEVENT

END:VCALENDAR
