BEGIN:VCALENDAR
VERSION:2.0
PRODID:-//ChamberMaster//Event Calendar 2.0//EN
METHOD:PUBLISH
X-PUBLISHED-TTL:P3D
REFRESH-INTERVAL:P3D
CALSCALE:GREGORIAN
BEGIN:VEVENT
DTSTART:20120312T170000Z
DTEND:20120312T190000Z
X-MICROSOFT-CDO-ALLDAYEVENT:FALSE
SUMMARY:Lon C. Hill Water Park Grand Opening
DESCRIPTION:Splish Splash\, come join the City of Harlingen for a big BASH! Grand Opening of the City of Harlingen's \nLon C. Hill Water Park/Fair Park. Entainment and kids activities will be available.
X-ALT-DESC;FMTTYPE=text/html:Splish Splash\, come join the City of Harlingen for a big BASH! Grand Opening of the City of Harlingen's \nLon C. Hill Water Park/Fair Park. Entainment and kids activities will be available. \n\n       \n
LOCATION:
UID:e.1828.3485
SEQUENCE:3
DTSTAMP:20260420T181947Z
URL:https://business.harlingen.com/events/details/lon-c-hill-water-park-grand-opening-03-12-2012-3485
END:VEVENT

END:VCALENDAR
