BEGIN:VCALENDAR
VERSION:2.0
PRODID:-//ChamberMaster//Event Calendar 2.0//EN
METHOD:PUBLISH
X-PUBLISHED-TTL:P3D
REFRESH-INTERVAL:P3D
CALSCALE:GREGORIAN
BEGIN:VEVENT
DTSTART:20110204T000000Z
DTEND:20110204T040000Z
X-MICROSOFT-CDO-ALLDAYEVENT:FALSE
SUMMARY:Los Fresnos Rodeo and Livestock Show Grounds Carnival
DESCRIPTION:Carnival proceeds to benefit the RGV Food Bank & Sunny Glen Children's Home.\nLos Fresnos Rodeo and Livestock Show Grounds\nPrice for Carnival: 3 cans of food plus $5-- get a wristband and with that can get on all the rides all night. Event organizers are: Cameron County Fair & Livestock Show\, Heart of America Shows\, & Cameron County Farm Bureau. For further information\, contact Ebon Jones\, cell 956-536-2458
X-ALT-DESC;FMTTYPE=text/html:Carnival proceeds to benefit the RGV Food Bank & Sunny Glen Children's Home.\nLos Fresnos Rodeo and Livestock Show Grounds\nPrice for Carnival: 3 cans of food plus $5-- get a wristband and with that can get on all the rides all night. Event organizers are: Cameron County Fair & Livestock Show\, Heart of America Shows\, & Cameron County Farm Bureau. For further information\, contact Ebon Jones\, cell 956-536-2458\n
LOCATION:Los Fresnos Rodeo and Livestock show grounds.
UID:e.1828.2902
SEQUENCE:3
DTSTAMP:20260421T155135Z
URL:https://business.harlingen.com/events/details/los-fresnos-rodeo-and-livestock-show-grounds-carnival-02-03-2011-2902
END:VEVENT

END:VCALENDAR
