BEGIN:VCALENDAR
VERSION:2.0
PRODID:-//ChamberMaster//Event Calendar 2.0//EN
METHOD:PUBLISH
X-PUBLISHED-TTL:P3D
REFRESH-INTERVAL:P3D
CALSCALE:GREGORIAN
BEGIN:VEVENT
DTSTART:20101027T150000Z
DTEND:20101027T150000Z
X-MICROSOFT-CDO-ALLDAYEVENT:FALSE
SUMMARY:Los Nortenos Mexican Restaurant Ribbon Cutting & Grand Opening
DESCRIPTION:Come and celebrate the Grand Opening of Los Nortenos Mexican Restaurant. Owner Rachel Ayala will discuss the restaurant's menu specialties such as Cabrito al Pastor. Beverages will be available.
X-ALT-DESC;FMTTYPE=text/html:Come and celebrate the Grand Opening of Los Nortenos Mexican Restaurant. Owner Rachel Ayala will discuss the restaurant's menu specialties such as Cabrito al Pastor. Beverages will be available.
LOCATION:
UID:e.1828.2799
SEQUENCE:3
DTSTAMP:20260421T204029Z
URL:https://business.harlingen.com/events/details/los-nortenos-mexican-restaurant-ribbon-cutting-grand-opening-10-27-2010-2799
END:VEVENT

END:VCALENDAR
