BEGIN:VCALENDAR
VERSION:2.0
PRODID:-//ChamberMaster//Event Calendar 2.0//EN
METHOD:PUBLISH
X-PUBLISHED-TTL:P3D
REFRESH-INTERVAL:P3D
CALSCALE:GREGORIAN
BEGIN:VEVENT
DTSTART:20120218T170000Z
DTEND:20120218T220000Z
X-MICROSOFT-CDO-ALLDAYEVENT:FALSE
SUMMARY:Louis Longoria Blood Drive/United Blood Services
DESCRIPTION:The Family of Louis Longoria and United Blood Services presents\, "The Live Louis Longoria Blood Drive".\nLive Music\, Silent Auction\, Chicken Plates $5.00 catered by Jake's BBQ. All in honor and loving memory of Louis Longoria. All proceeds from the sale of BBQ plates and the silent auction will go towards a scholarship fund in Louis Longoria's memory.   www.unitedbloodservices.org
X-ALT-DESC;FMTTYPE=text/html:The Family of Louis Longoria and United Blood Services presents\, "The Live Louis Longoria Blood Drive".\nLive Music\, Silent Auction\, Chicken Plates $5.00 catered by Jake's BBQ. All in honor and loving memory of Louis Longoria. All proceeds from the sale of BBQ plates and the silent auction will go towards a scholarship fund in Louis Longoria's memory.   www.unitedbloodservices.org
LOCATION:
UID:e.1828.3420
SEQUENCE:3
DTSTAMP:20260420T200756Z
URL:https://business.harlingen.com/events/details/louis-longoria-blood-drive-united-blood-services-02-18-2012-3420
END:VEVENT

END:VCALENDAR
