BEGIN:VCALENDAR
VERSION:2.0
PRODID:-//ChamberMaster//Event Calendar 2.0//EN
METHOD:PUBLISH
X-PUBLISHED-TTL:P3D
REFRESH-INTERVAL:P3D
CALSCALE:GREGORIAN
BEGIN:VEVENT
DTSTART:20120208T100000Z
DTEND:20120209T010000Z
X-MICROSOFT-CDO-ALLDAYEVENT:FALSE
SUMMARY:"Love is in the Air" Valentine's Stroll!
DESCRIPTION:It's almost Valentine's Day and "Love is in the Air" on Jackson Street in Downtown Harlingen! Come shop for your sweetie on Wednesday\, February 8\, from 4:00 to 7:00 p.m. Many businesses along Jackson from 1st to 3rd will be open late this evening only\, with tasty hors d'oeuvres and beverages\, unique treasures\, and special discounts. Plus\, enjoy live music by Funky Stuff (weather permitting). The Valentine's Stroll is free and open to the public ... bring a friend! For more info\, call the Harlingen Downtown Office\, 216-4910.
X-ALT-DESC;FMTTYPE=text/html:It's almost Valentine's Day and "Love is in the Air" on Jackson Street in Downtown Harlingen! Come shop for your sweetie on Wednesday\, February 8\, from 4:00 to 7:00 p.m. Many businesses along Jackson from 1st to 3rd will be open late this evening only\, with tasty hors d'oeuvres and beverages\, unique treasures\, and special discounts. Plus\, enjoy live music by Funky Stuff (weather permitting). The Valentine's Stroll is free and open to the public ... bring a friend! For more info\, call the Harlingen Downtown Office\, 216-4910.\n
LOCATION:
UID:e.1828.3393
SEQUENCE:3
DTSTAMP:20260420T212418Z
URL:https://business.harlingen.com/events/details/love-is-in-the-air-valentine-s-stroll-02-08-2012-3393
END:VEVENT

END:VCALENDAR
