BEGIN:VCALENDAR
VERSION:2.0
PRODID:-//ChamberMaster//Event Calendar 2.0//EN
METHOD:PUBLISH
X-PUBLISHED-TTL:P3D
REFRESH-INTERVAL:P3D
CALSCALE:GREGORIAN
BEGIN:VEVENT
DTSTART;VALUE=DATE:20120109
DTEND;VALUE=DATE:20120316
TRANSP:TRANSPARENT
X-MICROSOFT-CDO-ALLDAYEVENT:TRUE
SUMMARY:"Love Our Troops"
DESCRIPTION:American Military Support\, a 501C3 non-profit organization has launched the "Love Our Troops" campaign.\nThis campaign focuses on raising much needed monetary donations\, in order to help support the distribution of the "Quality of Life" packages that this organization provides on behalf of the community.\nWe encourage school districts\, businesses\, churches\, organization/associations and the individual to get involved in this fundraiser. All donors well have the opportunity to write a note of encouragement to our Valley troops\; notes will be forwarded to our troops serving overseas.\nThis campaign was originally created by the children and staff of Stuart Place Elementary in 2011 and as a result\, other campuses followed. This is also a great way to get the Winter Texan community involved. See our campaign poster attached.\nTo enroll your Valley loved ones and friends for these QLP's\, complete the form on our website (www.americanmillitarysupport.com) or email us a request for the required info. For more details about this campaign\, please call 956-425-1549.
X-ALT-DESC;FMTTYPE=text/html:American Military Support\, a 501C3 non-profit organization has launched the "Love Our Troops" campaign.\nThis campaign focuses on raising much needed monetary donations\, in order to help support the distribution of the "Quality of Life" packages that this organization provides on behalf of the community.\nWe encourage school districts\, businesses\, churches\, organization/associations and the individual to get involved in this fundraiser. All donors well have the opportunity to write a note of encouragement to our Valley troops\; notes will be forwarded to our troops serving overseas.\nThis campaign was originally created by the children and staff of Stuart Place Elementary in 2011 and as a result\, other campuses followed. This is also a great way to get the Winter Texan community involved. See our campaign poster attached.\nTo enroll your Valley loved ones and friends for these QLP's\, complete the form on our website (www.americanmillitarysupport.com) or email us a request for the required info. For more details about this campaign\, please call 956-425-1549. \n
LOCATION:
UID:e.1828.3388
SEQUENCE:3
DTSTAMP:20260420T181709Z
URL:https://business.harlingen.com/events/details/love-our-troops-01-09-2012-3388
END:VEVENT

END:VCALENDAR
