BEGIN:VCALENDAR
VERSION:2.0
PRODID:-//ChamberMaster//Event Calendar 2.0//EN
METHOD:PUBLISH
X-PUBLISHED-TTL:P3D
REFRESH-INTERVAL:P3D
CALSCALE:GREGORIAN
BEGIN:VEVENT
DTSTART;VALUE=DATE:20110920
DTEND;VALUE=DATE:20110921
TRANSP:TRANSPARENT
X-MICROSOFT-CDO-ALLDAYEVENT:TRUE
SUMMARY:Love y Familia A group exhibition and gala party
DESCRIPTION:Artists working in all mediums are encouraged to submit work which explores the "Love y Familia" theme. $500 Best in Show Prize will be awarded. For official rules and entry form please visit: www.pptrust.org. ENTRY DEADLINE is October 1st.
X-ALT-DESC;FMTTYPE=text/html:Artists working in all mediums are encouraged to submit work which explores the "Love y Familia" theme. $500 Best in Show Prize will be awarded. For official rules and entry form please visit: www.pptrust.org. ENTRY DEADLINE is October 1st.   \n \n
LOCATION:
UID:e.1828.3172
SEQUENCE:3
DTSTAMP:20260421T053259Z
URL:https://business.harlingen.com/events/details/love-y-familia-a-group-exhibition-and-gala-party-09-20-2011-3172
END:VEVENT

END:VCALENDAR
