BEGIN:VCALENDAR
VERSION:2.0
PRODID:-//ChamberMaster//Event Calendar 2.0//EN
METHOD:PUBLISH
X-PUBLISHED-TTL:P3D
REFRESH-INTERVAL:P3D
CALSCALE:GREGORIAN
BEGIN:VEVENT
DTSTART:20111105T230000Z
DTEND:20111105T230000Z
X-MICROSOFT-CDO-ALLDAYEVENT:FALSE
SUMMARY:Love y Familia exhibition
DESCRIPTION:Love y Familia is a group art exhibition at the Harlingen Arts & Heritage Museum. The exhibtion will feature work in all mediums which explore the themes of "Love" and/or "Family".\n\nWe are now accepting submissions from artists who want to be included in the show. For more information please contact angela.koester@pptrust.org
X-ALT-DESC;FMTTYPE=text/html:Love y Familia is a group art exhibition at the Harlingen Arts & Heritage Museum. The exhibtion will feature work in all mediums which explore the themes of "Love" and/or "Family".\n\nWe are now accepting submissions from artists who want to be included in the show. For more information please contact angela.koester@pptrust.org
LOCATION:Harlingen Arts & Heritage Museum
UID:e.1828.3244
SEQUENCE:3
DTSTAMP:20260421T021604Z
URL:https://business.harlingen.com/events/details/love-y-familia-exhibition-11-05-2011-3244
END:VEVENT

END:VCALENDAR
