BEGIN:VCALENDAR
VERSION:2.0
PRODID:-//ChamberMaster//Event Calendar 2.0//EN
METHOD:PUBLISH
X-PUBLISHED-TTL:P3D
REFRESH-INTERVAL:P3D
CALSCALE:GREGORIAN
BEGIN:VEVENT
DTSTART:20120922T233000Z
DTEND:20120922T233000Z
X-MICROSOFT-CDO-ALLDAYEVENT:FALSE
SUMMARY:Loves and Fishes 7th Annual Autumn Gala Recognition Dinner
DESCRIPTION:We thank and honor individuals\, organizations and churches which have served the vulnerable for Jesus' sake\, bringing Help & Hope to the Hungry\, the Homeless & the Hurting.\n\nWe are pleased to announce that this year's honorees are:\n\nFirst Baptist Church\nSt. Alban's Episcopal Church\nFern Chiles\nThomas Segel\nVance Greek\nBank of America\nUnited Parcel Service Foundation\n\nThis dinner is an important fundraiser for Loaves & Fishes\, and just as importantly\, informs the community about our work. We hope that you will be among our featured community sponsors of this year's event. All Silver\, Gold and Platinum Sponsors will be recognized in our program. We are\, of course\, grateful for the support of all our friends. So please join us whether you purchase one ticket or a Platinum Sponsorship.\n\nYour support allows us to serve the individuals and families most in need in our community. For more information call 956-423-1014 or www.lfrgv.org
X-ALT-DESC;FMTTYPE=text/html:We thank and honor individuals\, organizations and churches which have served the vulnerable for Jesus' sake\, bringing Help & Hope to the Hungry\, the Homeless & the Hurting.\n\nWe are pleased to announce that this year's honorees are:\n\nFirst Baptist Church\nSt. Alban's Episcopal Church\nFern Chiles\nThomas Segel\nVance Greek\nBank of America\nUnited Parcel Service Foundation\n\nThis dinner is an important fundraiser for Loaves & Fishes\, and just as importantly\, informs the community about our work. We hope that you will be among our featured community sponsors of this year's event. All Silver\, Gold and Platinum Sponsors will be recognized in our program. We are\, of course\, grateful for the support of all our friends. So please join us whether you purchase one ticket or a Platinum Sponsorship.\n\nYour support allows us to serve the individuals and families most in need in our community. For more information call 956-423-1014 or www.lfrgv.org\n\n\n\n\n\n
LOCATION:
UID:e.1828.3937
SEQUENCE:3
DTSTAMP:20260420T102224Z
URL:https://business.harlingen.com/events/details/loves-and-fishes-7th-annual-autumn-gala-recognition-dinner-09-22-2012-3937
END:VEVENT

END:VCALENDAR
