BEGIN:VCALENDAR
VERSION:2.0
PRODID:-//ChamberMaster//Event Calendar 2.0//EN
METHOD:PUBLISH
X-PUBLISHED-TTL:P3D
REFRESH-INTERVAL:P3D
CALSCALE:GREGORIAN
BEGIN:VEVENT
DTSTART:20120306T233000Z
DTEND:20120306T233000Z
X-MICROSOFT-CDO-ALLDAYEVENT:FALSE
SUMMARY:Lower Valley Chapter-Texas Restaurant Association Organizational Meeting
DESCRIPTION:Open to All TRA Members & Potential Members\, Owners\, Managers\, Associates\, and all interested staff. Questions & RSVP: William Pannell- Luby's wpannell@lubys.com or 956-423-4812.\nGet Involved ! - On the Board - On a committee - In local politics - School culinary programs - Special Events
X-ALT-DESC;FMTTYPE=text/html:Open to All TRA Members & Potential Members\, Owners\, Managers\, Associates\, and all interested staff. Questions & RSVP: William Pannell- Luby's wpannell@lubys.com or 956-423-4812.\nGet Involved ! - On the Board - On a committee - In local politics - School culinary programs - Special Events    \n\n
LOCATION:
UID:e.1828.3416
SEQUENCE:3
DTSTAMP:20260420T182056Z
URL:https://business.harlingen.com/events/details/lower-valley-chapter-texas-restaurant-association-organizational-meeting-03-06-2012-3416
END:VEVENT

END:VCALENDAR
