BEGIN:VCALENDAR
VERSION:2.0
PRODID:-//ChamberMaster//Event Calendar 2.0//EN
METHOD:PUBLISH
X-PUBLISHED-TTL:P3D
REFRESH-INTERVAL:P3D
CALSCALE:GREGORIAN
BEGIN:VEVENT
DTSTART:20101209T170000Z
DTEND:20101209T190000Z
X-MICROSOFT-CDO-ALLDAYEVENT:FALSE
SUMMARY:Lunch for the NEEDY
DESCRIPTION:DONATIONS ACCEPTED.  For more information please call Rida Penney at 956-428-7116
X-ALT-DESC;FMTTYPE=text/html:DONATIONS ACCEPTED.  For more information please call Rida Penney at 956-428-7116
LOCATION:
UID:e.1828.2851
SEQUENCE:3
DTSTAMP:20260421T171452Z
URL:https://business.harlingen.com/events/details/lunch-for-the-needy-12-09-2010-2851
END:VEVENT

END:VCALENDAR
