BEGIN:VCALENDAR
VERSION:2.0
PRODID:-//ChamberMaster//Event Calendar 2.0//EN
METHOD:PUBLISH
X-PUBLISHED-TTL:P3D
REFRESH-INTERVAL:P3D
CALSCALE:GREGORIAN
BEGIN:VEVENT
DTSTART:20200311T170000Z
DTEND:20200311T180000Z
X-MICROSOFT-CDO-ALLDAYEVENT:FALSE
SUMMARY:Lunch & Learn: Hire Right- How To Build & Retain a Great Team
DESCRIPTION:
X-ALT-DESC;FMTTYPE=text/html:
LOCATION:
UID:e.1828.16257
SEQUENCE:3
DTSTAMP:20260422T181830Z
URL:https://business.harlingen.com/events/details/lunch-learn-hire-right-how-to-build-retain-a-great-team-16257
END:VEVENT

END:VCALENDAR
