BEGIN:VCALENDAR
VERSION:2.0
PRODID:-//ChamberMaster//Event Calendar 2.0//EN
METHOD:PUBLISH
X-PUBLISHED-TTL:P3D
REFRESH-INTERVAL:P3D
CALSCALE:GREGORIAN
BEGIN:VEVENT
DTSTART:20091020T163000Z
DTEND:20091020T163000Z
X-MICROSOFT-CDO-ALLDAYEVENT:FALSE
SUMMARY:Luncheon Honoring State Representative Tara Rios Ybarra
DESCRIPTION:Please join Texans for Lawsuit Reform PAC in honoring State Representative Tara Rios Ybarra\, recipient of the\nTLR Civil Justice Leadership Award on Tuesday\, October 20th\, 2009 at 11:30 am at A Catered Affair on Jackson Square\, 301 E. Jackson Street in Harlingen.  Complimentary lunch for you and 1 guest. SPACE IS LIMITED!  Please RSVP to 512-478-0200 or Email: rsvp@tortreform.com.
X-ALT-DESC;FMTTYPE=text/html:Please join Texans for Lawsuit Reform PAC in honoring State Representative Tara Rios Ybarra\, recipient of the\nTLR Civil Justice Leadership Award on Tuesday\, October 20th\, 2009 at 11:30 am at A Catered Affair on Jackson Square\, 301 E. Jackson Street in Harlingen.  Complimentary lunch for you and 1 guest. SPACE IS LIMITED!  Please RSVP to 512-478-0200 or Email: rsvp@tortreform.com.  \n\n
LOCATION:
UID:e.1828.2093
SEQUENCE:3
DTSTAMP:20260422T111926Z
URL:https://business.harlingen.com/events/details/luncheon-honoring-state-representative-tara-rios-ybarra-10-20-2009-2093
END:VEVENT

END:VCALENDAR
