BEGIN:VCALENDAR
VERSION:2.0
PRODID:-//ChamberMaster//Event Calendar 2.0//EN
METHOD:PUBLISH
X-PUBLISHED-TTL:P3D
REFRESH-INTERVAL:P3D
CALSCALE:GREGORIAN
BEGIN:VEVENT
DTSTART;VALUE=DATE:20110409
DTEND;VALUE=DATE:20110410
TRANSP:TRANSPARENT
X-MICROSOFT-CDO-ALLDAYEVENT:TRUE
SUMMARY:LZ-RGV Welcoming Home Our South Texas Vietnam Veterans
DESCRIPTION:McAllen Convention Center\nDay of Celebration\, Proclamation and Education!\nVeterans and Families Invited * FREE Admission * Doors open at 12:30\nSpecial Guests * Exhibits * Multimedia * Food * Music\nVisit www.lzrgv.com for more information.
X-ALT-DESC;FMTTYPE=text/html:McAllen Convention Center\nDay of Celebration\, Proclamation and Education!\nVeterans and Families Invited * FREE Admission * Doors open at 12:30\nSpecial Guests * Exhibits * Multimedia * Food * Music\nVisit www.lzrgv.com for more information.   \n
LOCATION:
UID:e.1828.3007
SEQUENCE:3
DTSTAMP:20260421T113505Z
URL:https://business.harlingen.com/events/details/lz-rgv-welcoming-home-our-south-texas-vietnam-veterans-04-09-2011-3007
END:VEVENT

END:VCALENDAR
