BEGIN:VCALENDAR
VERSION:2.0
PRODID:-//ChamberMaster//Event Calendar 2.0//EN
METHOD:PUBLISH
X-PUBLISHED-TTL:P3D
REFRESH-INTERVAL:P3D
CALSCALE:GREGORIAN
BEGIN:VEVENT
DTSTART:20091024T130000Z
DTEND:20091024T170000Z
X-MICROSOFT-CDO-ALLDAYEVENT:FALSE
SUMMARY:MAKE A DIFFERENCE DAY TO AID HARLINGEN ANIMAL SHELTER
DESCRIPTION:National Make A Difference Day will be held at the Harlingen Humane Society Shelter from 8 a.m. to 12 p.m. Saturday\, October 24th. The site for the event has changed to a beautification and resupply event at the animal shelter\, 1106 Markowsky Ave. TSTC students and employees\, Keep Harlingen Beautiful / Harlingen Proud volunteers\, other groups\, and local citizens to plant trees and flowers outdoors\, shampoo pets\, walk dogs\, clean kennels\, and revitalize the facility. Volunteers should register in advance with Student Life Director Adele Clinton at adele.clinton@harlingen.tstc.edu.  Volunteers or others are asked to bring a donation of dog or cat food\, puppy or kitten food\, canned animal food\, dog treats and rawhide\, chewable toys\, copy paper\, pens and pencils\, mineral oil\, hydrogen peroxide\, old towels and wash cloths and clean blankets.  Registration will be from 7:30 AM to 8 AM and the project will go from 8 AM until noon.
X-ALT-DESC;FMTTYPE=text/html:National Make A Difference Day will be held at the Harlingen Humane Society Shelter from 8 a.m. to 12 p.m. Saturday\, October 24th. The site for the event has changed to a beautification and resupply event at the animal shelter\, 1106 Markowsky Ave. TSTC students and employees\, Keep Harlingen Beautiful / Harlingen Proud volunteers\, other groups\, and local citizens to plant trees and flowers outdoors\, shampoo pets\, walk dogs\, clean kennels\, and revitalize the facility. Volunteers should register in advance with Student Life Director Adele Clinton at adele.clinton@harlingen.tstc.edu.  Volunteers or others are asked to bring a donation of dog or cat food\, puppy or kitten food\, canned animal food\, dog treats and rawhide\, chewable toys\, copy paper\, pens and pencils\, mineral oil\, hydrogen peroxide\, old towels and wash cloths and clean blankets.  Registration will be from 7:30 AM to 8 AM and the project will go from 8 AM until noon. \n
LOCATION:
UID:e.1828.2169
SEQUENCE:3
DTSTAMP:20260422T112009Z
URL:https://business.harlingen.com/events/details/make-a-difference-day-to-aid-harlingen-animal-shelter-10-24-2009-2169
END:VEVENT

END:VCALENDAR
