BEGIN:VCALENDAR
VERSION:2.0
PRODID:-//ChamberMaster//Event Calendar 2.0//EN
METHOD:PUBLISH
X-PUBLISHED-TTL:P3D
REFRESH-INTERVAL:P3D
CALSCALE:GREGORIAN
BEGIN:VEVENT
DTSTART:20091017T180000Z
DTEND:20091017T200000Z
X-MICROSOFT-CDO-ALLDAYEVENT:FALSE
SUMMARY:Make Your Own Day of the Dead Alter Workshop
DESCRIPTION:Just in time for Day of the Dead\, the Brownsville Historical Association invites the public to learn to make their own alters.  Supplies will be available and  guests are invited to bring mementos to personalize their alters.  This event is free to public and is sponsored by Target.\n\nGuests will also be able to enjoy the ongoing exhibit Dichos by Harlingen native Jennifer Rodriguez.
X-ALT-DESC;FMTTYPE=text/html:Just in time for Day of the Dead\, the Brownsville Historical Association invites the public to learn to make their own alters.  Supplies will be available and  guests are invited to bring mementos to personalize their alters.  This event is free to public and is sponsored by Target.\n\nGuests will also be able to enjoy the ongoing exhibit Dichos by Harlingen native Jennifer Rodriguez.
LOCATION:Take US 77/83 to East Ave and turn left. At the first stoplight\, turn left onto Elena and take a sharp left onto Carolina St. Turn left onto Tony Gonzalez Drive and the Urban Center will be on the right hand side.
UID:e.1828.2110
SEQUENCE:3
DTSTAMP:20260422T112008Z
URL:https://business.harlingen.com/events/details/make-your-own-day-of-the-dead-alter-workshop-10-17-2009-2110
END:VEVENT

END:VCALENDAR
