BEGIN:VCALENDAR
VERSION:2.0
PRODID:-//ChamberMaster//Event Calendar 2.0//EN
METHOD:PUBLISH
X-PUBLISHED-TTL:P3D
REFRESH-INTERVAL:P3D
CALSCALE:GREGORIAN
BEGIN:VEVENT
DTSTART:20091024T180000Z
DTEND:20091024T200000Z
X-MICROSOFT-CDO-ALLDAYEVENT:FALSE
SUMMARY:Make Your Own Day of the Dead Sugar Skull Workshop
DESCRIPTION:Just in time for Day of the Dead\, the Brownsville Historical Association invites the public to learn to make their own sugar skulls.  Supplies will be available.  This event is free to public and is sponsored by Target.\n\nGuests will also be able to enjoy the ongoing exhibit Dichos by Harlingen native Jennifer Rodriguez.
X-ALT-DESC;FMTTYPE=text/html:Just in time for Day of the Dead\, the Brownsville Historical Association invites the public to learn to make their own sugar skulls.  Supplies will be available.  This event is free to public and is sponsored by Target.\n\nGuests will also be able to enjoy the ongoing exhibit Dichos by Harlingen native Jennifer Rodriguez.
LOCATION:Take US 77/83 to East Ave and turn left. At the first stoplight\, turn left onto Elena and take a sharp left onto Carolina St. Turn left onto Tony Gonzalez Drive and the Urban Center will be on the right hand side.
UID:e.1828.2111
SEQUENCE:3
DTSTAMP:20260422T112125Z
URL:https://business.harlingen.com/events/details/make-your-own-day-of-the-dead-sugar-skull-workshop-10-24-2009-2111
END:VEVENT

END:VCALENDAR
