BEGIN:VCALENDAR
VERSION:2.0
PRODID:-//ChamberMaster//Event Calendar 2.0//EN
METHOD:PUBLISH
X-PUBLISHED-TTL:P3D
REFRESH-INTERVAL:P3D
CALSCALE:GREGORIAN
BEGIN:VEVENT
DTSTART:20091122T200000Z
DTEND:20091122T200000Z
X-MICROSOFT-CDO-ALLDAYEVENT:FALSE
SUMMARY:Make Your Own Pinhole Camera Workshop
DESCRIPTION:Guests are invited to learn how to make their own pinhole cameras. All supplies will be available to participants and refreshments will be available. Cost is free for members and $4 for non-members
X-ALT-DESC;FMTTYPE=text/html:Guests are invited to learn how to make their own pinhole cameras. All supplies will be available to participants and refreshments will be available. Cost is free for members and $4 for non-members
LOCATION:Brownsville Heritage Complex
UID:e.1828.2187
SEQUENCE:3
DTSTAMP:20260422T124932Z
URL:https://business.harlingen.com/events/details/make-your-own-pinhole-camera-workshop-11-22-2009-2187
END:VEVENT

END:VCALENDAR
